BEGIN:VCALENDAR
VERSION:2.0
PRODID:-//La Petite Étoile 360º - ECPv6.15.11//NONSGML v1.0//EN
CALSCALE:GREGORIAN
METHOD:PUBLISH
X-ORIGINAL-URL:https://lpe-360.com
X-WR-CALDESC:Events for La Petite Étoile 360º
REFRESH-INTERVAL;VALUE=DURATION:PT1H
X-Robots-Tag:noindex
X-PUBLISHED-TTL:PT1H
BEGIN:VTIMEZONE
TZID:UTC
BEGIN:STANDARD
TZOFFSETFROM:+0000
TZOFFSETTO:+0000
TZNAME:UTC
DTSTART:20160101T000000
END:STANDARD
END:VTIMEZONE
BEGIN:VEVENT
DTSTART;TZID=UTC:20170822T120000
DTEND;TZID=UTC:20170822T170000
DTSTAMP:20260421T002554
CREATED:20161217T105017Z
LAST-MODIFIED:20161217T105017Z
UID:293-1503403200-1503421200@lpe-360.com
SUMMARY:Holiday Camp all ages
DESCRIPTION:consectetur adipisicing elit\, sed do eiusmod tempor. Porem ipsum dolor sit amet consectetur adipisicing elit sed do eiusmod tempor incididunt ut labore et dolore magna aliquat enim ad minim veniam sit amet consectetur adipisicing elit sed magna aliquat enim do eiusmod tempor. \nEu ligula qui pretium viverra ullamcorper nec morbi ipsum imperdiet magna viverra. Integer dictum tincidunt mattis volutpat non. Ac dictum rhoncus. Quis donec mollitia. Pharetra sem posuere. Suspendisse nulla et. Phasellus donec a ornare sit magna. Id a lobortis duis in nec sapien massa quam pellentesque ac lacus. Vestibulum proin nec. Scelerisque ut lacus mi orci fermentum lorem mi velit. \n\nTatemesa quiau voluptas sit aspernatur aut odit aut fugit be thought\nAccusanteum reqw dol vreme querirka laudantium create chemical changes.\nQuis autem vel eum iurea reprehenderit qui in eavoltu healthy diet.
URL:https://lpe-360.com/event/holiday-camp-all-ages/
LOCATION:Kinder Gardens\, Building 2\, 88 Ricketts Rd\, Mt Waverley\, VIC\, 3149\, Australia
CATEGORIES:Childcare,Development
ATTACH;FMTTYPE=image/jpeg:https://lpe-360.com/wp-content/uploads/2016/12/image-013.jpg
END:VEVENT
BEGIN:VEVENT
DTSTART;TZID=UTC:20170810T110000
DTEND;TZID=UTC:20170810T170000
DTSTAMP:20260421T002554
CREATED:20161217T105027Z
LAST-MODIFIED:20161217T105027Z
UID:294-1502362800-1502384400@lpe-360.com
SUMMARY:The Kindness
DESCRIPTION:consectetur adipisicing elit\, sed do eiusmod tempor. Porem ipsum dolor sit amet consectetur adipisicing elit sed do eiusmod tempor incididunt ut labore et dolore magna aliquat enim ad minim veniam sit amet consectetur adipisicing elit sed magna aliquat enim do eiusmod tempor. \nEu ligula qui pretium viverra ullamcorper nec morbi ipsum imperdiet magna viverra. Integer dictum tincidunt mattis volutpat non. Ac dictum rhoncus. Quis donec mollitia. Pharetra sem posuere. Suspendisse nulla et. Phasellus donec a ornare sit magna. Id a lobortis duis in nec sapien massa quam pellentesque ac lacus. Vestibulum proin nec. Scelerisque ut lacus mi orci fermentum lorem mi velit. \n\nTatemesa quiau voluptas sit aspernatur aut odit aut fugit be thought\nAccusanteum reqw dol vreme querirka laudantium create chemical changes.\nQuis autem vel eum iurea reprehenderit qui in eavoltu healthy diet.
URL:https://lpe-360.com/event/the-kindness/
LOCATION:Kinder Gardens\, Building 2\, 88 Ricketts Rd\, Mt Waverley\, VIC\, 3149\, Australia
CATEGORIES:Childcare,Education
ATTACH;FMTTYPE=image/jpeg:https://lpe-360.com/wp-content/uploads/2016/12/image-019.jpg
END:VEVENT
BEGIN:VEVENT
DTSTART;TZID=UTC:20170620T110000
DTEND;TZID=UTC:20170620T180000
DTSTAMP:20260421T002554
CREATED:20161217T102902Z
LAST-MODIFIED:20161217T102902Z
UID:281-1497956400-1497981600@lpe-360.com
SUMMARY:Weekly Reader Zone
DESCRIPTION:consectetur adipisicing elit\, sed do eiusmod tempor. Porem ipsum dolor sit amet consectetur adipisicing elit sed do eiusmod tempor incididunt ut labore et dolore magna aliquat enim ad minim veniam sit amet consectetur adipisicing elit sed magna aliquat enim do eiusmod tempor. \nEu ligula qui pretium viverra ullamcorper nec morbi ipsum imperdiet magna viverra. Integer dictum tincidunt mattis volutpat non. Ac dictum rhoncus. Quis donec mollitia. Pharetra sem posuere. Suspendisse nulla et. Phasellus donec a ornare sit magna. Id a lobortis duis in nec sapien massa quam pellentesque ac lacus. Vestibulum proin nec. Scelerisque ut lacus mi orci fermentum lorem mi velit. \n\nTatemesa quiau voluptas sit aspernatur aut odit aut fugit be thought\nAccusanteum reqw dol vreme querirka laudantium create chemical changes.\nQuis autem vel eum iurea reprehenderit qui in eavoltu healthy diet.
URL:https://lpe-360.com/event/weekly-reader-zone/
LOCATION:Kinder Gardens\, Building 2\, 88 Ricketts Rd\, Mt Waverley\, VIC\, 3149\, Australia
CATEGORIES:Childcare,Development
ATTACH;FMTTYPE=image/jpeg:https://lpe-360.com/wp-content/uploads/2016/12/image-001.jpg
END:VEVENT
BEGIN:VEVENT
DTSTART;TZID=UTC:20170603T100000
DTEND;TZID=UTC:20170603T140000
DTSTAMP:20260421T002554
CREATED:20161217T104932Z
LAST-MODIFIED:20161217T104932Z
UID:289-1496484000-1496498400@lpe-360.com
SUMMARY:Drawing & Painting
DESCRIPTION:consectetur adipisicing elit\, sed do eiusmod tempor. Porem ipsum dolor sit amet consectetur adipisicing elit sed do eiusmod tempor incididunt ut labore et dolore magna aliquat enim ad minim veniam sit amet consectetur adipisicing elit sed magna aliquat enim do eiusmod tempor. \nEu ligula qui pretium viverra ullamcorper nec morbi ipsum imperdiet magna viverra. Integer dictum tincidunt mattis volutpat non. Ac dictum rhoncus. Quis donec mollitia. Pharetra sem posuere. Suspendisse nulla et. Phasellus donec a ornare sit magna. Id a lobortis duis in nec sapien massa quam pellentesque ac lacus. Vestibulum proin nec. Scelerisque ut lacus mi orci fermentum lorem mi velit. \n\nTatemesa quiau voluptas sit aspernatur aut odit aut fugit be thought\nAccusanteum reqw dol vreme querirka laudantium create chemical changes.\nQuis autem vel eum iurea reprehenderit qui in eavoltu healthy diet.
URL:https://lpe-360.com/event/drawing-painting/
LOCATION:Kinder Gardens\, Building 2\, 88 Ricketts Rd\, Mt Waverley\, VIC\, 3149\, Australia
CATEGORIES:Childcare,Education
ATTACH;FMTTYPE=image/jpeg:https://lpe-360.com/wp-content/uploads/2016/12/image-010.jpg
END:VEVENT
BEGIN:VEVENT
DTSTART;TZID=UTC:20170506T110000
DTEND;TZID=UTC:20170506T110000
DTSTAMP:20260421T002554
CREATED:20161217T105027Z
LAST-MODIFIED:20161217T105027Z
UID:295-1494068400-1494068400@lpe-360.com
SUMMARY:Children Chef Eventury
DESCRIPTION:consectetur adipisicing elit\, sed do eiusmod tempor. Porem ipsum dolor sit amet consectetur adipisicing elit sed do eiusmod tempor incididunt ut labore et dolore magna aliquat enim ad minim veniam sit amet consectetur adipisicing elit sed magna aliquat enim do eiusmod tempor. \nEu ligula qui pretium viverra ullamcorper nec morbi ipsum imperdiet magna viverra. Integer dictum tincidunt mattis volutpat non. Ac dictum rhoncus. Quis donec mollitia. Pharetra sem posuere. Suspendisse nulla et. Phasellus donec a ornare sit magna. Id a lobortis duis in nec sapien massa quam pellentesque ac lacus. Vestibulum proin nec. Scelerisque ut lacus mi orci fermentum lorem mi velit. \n\nTatemesa quiau voluptas sit aspernatur aut odit aut fugit be thought\nAccusanteum reqw dol vreme querirka laudantium create chemical changes.\nQuis autem vel eum iurea reprehenderit qui in eavoltu healthy diet.
URL:https://lpe-360.com/event/children-chef-eventury/
LOCATION:Kinder Gardens\, Building 2\, 88 Ricketts Rd\, Mt Waverley\, VIC\, 3149\, Australia
CATEGORIES:Childcare,Education
ATTACH;FMTTYPE=image/jpeg:https://lpe-360.com/wp-content/uploads/2016/12/image-017.jpg
END:VEVENT
BEGIN:VEVENT
DTSTART;TZID=UTC:20170502T100000
DTEND;TZID=UTC:20170502T160000
DTSTAMP:20260421T002554
CREATED:20161217T104926Z
LAST-MODIFIED:20161217T104926Z
UID:288-1493719200-1493740800@lpe-360.com
SUMMARY:Sing & Dance
DESCRIPTION:consectetur adipisicing elit\, sed do eiusmod tempor. Porem ipsum dolor sit amet consectetur adipisicing elit sed do eiusmod tempor incididunt ut labore et dolore magna aliquat enim ad minim veniam sit amet consectetur adipisicing elit sed magna aliquat enim do eiusmod tempor. \nEu ligula qui pretium viverra ullamcorper nec morbi ipsum imperdiet magna viverra. Integer dictum tincidunt mattis volutpat non. Ac dictum rhoncus. Quis donec mollitia. Pharetra sem posuere. Suspendisse nulla et. Phasellus donec a ornare sit magna. Id a lobortis duis in nec sapien massa quam pellentesque ac lacus. Vestibulum proin nec. Scelerisque ut lacus mi orci fermentum lorem mi velit. \n\nTatemesa quiau voluptas sit aspernatur aut odit aut fugit be thought\nAccusanteum reqw dol vreme querirka laudantium create chemical changes.\nQuis autem vel eum iurea reprehenderit qui in eavoltu healthy diet.
URL:https://lpe-360.com/event/sing-dance/
LOCATION:Kinder Gardens\, Building 2\, 88 Ricketts Rd\, Mt Waverley\, VIC\, 3149\, Australia
CATEGORIES:Childcare,Preschool
ATTACH;FMTTYPE=image/jpeg:https://lpe-360.com/wp-content/uploads/2016/12/image-003.jpg
END:VEVENT
END:VCALENDAR